BEGIN:VCALENDAR
VERSION:2.0
PRODID:-//ChamberMaster//Event Calendar 2.0//EN
METHOD:PUBLISH
X-PUBLISHED-TTL:P3D
REFRESH-INTERVAL:P3D
CALSCALE:GREGORIAN
BEGIN:VEVENT
DTSTART:20200307T000000Z
DTEND:20200307T013000Z
X-MICROSOFT-CDO-ALLDAYEVENT:FALSE
SUMMARY:Denison's TUTTI Festival: Performance Artist Miwa Matreyek
DESCRIPTION:The TUTTI festival presents performance artist Miwa Matreyek. Matreyek is an animator\, director\, designer\, and performer based in Los Angeles. Coming from a background in animation by way of collage\, Matreyek creates live\, staged performances where she interacts with her animations as a shadow silhouette\, at the cross-section of cinematic and theatrical\, fantastical and tangible\, illusionistic and physical. Her work exists in a dreamlike visual space that makes invisible worlds visible\, often weaving surreal and poetic narratives of conflict between man and nature. Her work exists both at the realm of the hand-made and tech.\n\nDenison's TUTTI Festival 2020 celebrates the arts through concerts\, workshops and exhibits and takes place March 3 through March 7\, 2020.
X-ALT-DESC;FMTTYPE=text/html:<p><span style="color:rgb(0\, 0\, 0)\; font-family:roboto\,sans-serif\; font-size:14px">The TUTTI festival presents performance artist Miwa Matreyek. Matreyek is an animator\, director\, designer\, and performer based in Los Angeles. Coming from a background in animation by way of collage\, Matreyek creates live\, staged performances where she interacts with her animations as a shadow silhouette\, at the cross-section of cinematic and theatrical\, fantastical and tangible\, illusionistic and physical. Her work exists in a dreamlike visual space that makes invisible worlds visible\, often weaving surreal and poetic narratives of conflict between man and nature. Her work exists both at the realm of the hand-made and tech.</span></p>\n\n<p>Denison&rsquo\;s TUTTI Festival 2020 celebrates the arts through concerts\, workshops and exhibits and takes place March 3 through March 7\, 2020.</p>\n
LOCATION:Denison University Sharon Martin Hall of the Michael D. Eisner Center for the Performing Arts 240 West Broadway
UID:e.180.14335
SEQUENCE:3
DTSTAMP:20260422T143039Z
URL:https://business.granvilleoh.com/events/details/denison-s-tutti-festival-performance-artist-miwa-matreyek-14335
END:VEVENT

END:VCALENDAR
