BEGIN:VCALENDAR
VERSION:2.0
PRODID:-//ChamberMaster//Event Calendar 2.0//EN
METHOD:PUBLISH
X-PUBLISHED-TTL:P3D
REFRESH-INTERVAL:P3D
CALSCALE:GREGORIAN
BEGIN:VEVENT
DTSTART:20200306T003000Z
DTEND:20200306T020000Z
X-MICROSOFT-CDO-ALLDAYEVENT:FALSE
SUMMARY:Denison's TUTTI Festival: Wind Ensemble\, Orchestra and Choir
DESCRIPTION:The TUTTI festival presents a concert featuring Denison's Wind Ensemble\, Orchestra and Choir.\n\nDenison's TUTTI Festival 2020 celebrates the arts through concerts\, workshops and exhibits and takes place March 3 through March 7\, 2020.
X-ALT-DESC;FMTTYPE=text/html:<p>The TUTTI festival presents a concert featuring Denison&rsquo\;s Wind Ensemble\, Orchestra and Choir.</p>\n\n<p>Denison&rsquo\;s TUTTI Festival 2020 celebrates the arts through concerts\, workshops and exhibits and takes place March 3 through March 7\, 2020.</p>\n
LOCATION:Denison University Sharon Martin Hall of the Michael D. Eisner Center for the Performing Arts 240 West Broadway
UID:e.180.14331
SEQUENCE:3
DTSTAMP:20260422T142852Z
URL:https://business.granvilleoh.com/events/details/denison-s-tutti-festival-wind-ensemble-orchestra-and-choir-14331
END:VEVENT

END:VCALENDAR
