BEGIN:VCALENDAR
VERSION:2.0
PRODID:-//ChamberMaster//Event Calendar 2.0//EN
METHOD:PUBLISH
X-PUBLISHED-TTL:P3D
REFRESH-INTERVAL:P3D
CALSCALE:GREGORIAN
BEGIN:VEVENT
DTSTART:20200307T180000Z
DTEND:20200307T193000Z
X-MICROSOFT-CDO-ALLDAYEVENT:FALSE
SUMMARY:Denison's TUTTI Festival: 'Words and Music'
DESCRIPTION:The TUTTI festival presents a performance of new works by Denison student composers featuring poetry by Bryn Du Artist in Residence\, Jennifer Hambrick. Performers include Denison University music students and the world-renowned new music string quartet ETHEL\, Denison University's Quartet-in-Residence. The Bryn Du Artist in Residence program is made possible by grant support by the Ohio Arts Council.\n\nDenison's TUTTI Festival 2020 celebrates the arts through concerts\, workshops and exhibits and takes place March 3 through March 7\, 2020.
X-ALT-DESC;FMTTYPE=text/html:<p><span style="color:rgb(69\, 69\, 69)\; font-family:freight sans pro w00\; font-size:19.2px">The TUTTI festival presents a performance of new works by Denison student composers featuring poetry by Bryn Du Artist in Residence\, Jennifer Hambrick. Performers include Denison University music students and the world-renowned new music string quartet ETHEL\, Denison University&rsquo\;s Quartet-in-Residence. The Bryn Du Artist in Residence program is made possible by grant support by the Ohio Arts Council.</span></p>\n\n<p>Denison&rsquo\;s TUTTI Festival 2020 celebrates the arts through concerts\, workshops and exhibits and takes place March 3 through March 7\, 2020.</p>\n
LOCATION:Denison University Sharon Martin Hall of the Michael D. Eisner Center for the Performing Arts 240 West Broadway
UID:e.180.14336
SEQUENCE:3
DTSTAMP:20260422T143556Z
URL:https://business.granvilleoh.com/events/details/denison-s-tutti-festival-words-and-music-03-07-2020-14336
END:VEVENT

END:VCALENDAR
