BEGIN:VCALENDAR
VERSION:2.0
PRODID:-//ChamberMaster//Event Calendar 2.0//EN
METHOD:PUBLISH
X-PUBLISHED-TTL:P3D
REFRESH-INTERVAL:P3D
CALSCALE:GREGORIAN
BEGIN:VEVENT
DTSTART:20211209T170000Z
DTEND:20211209T180000Z
X-MICROSOFT-CDO-ALLDAYEVENT:FALSE
SUMMARY:Denison Student Recital
DESCRIPTION:The Department of Music presents a student recital.
X-ALT-DESC;FMTTYPE=text/html:<span style="color:rgb(34\, 34\, 34)\; font-family:arial\,helvetica\,sans-serif\; font-size:small">The Department of Music presents a student recital.</span>
LOCATION:Denison University Michael D. Eisner Center for the Performing Arts- Burke Recital Hall 240 West Broadway
UID:e.180.16133
SEQUENCE:3
DTSTAMP:20260421T111745Z
URL:https://business.granvilleoh.com/events/details/denison-student-recital-12-09-2021-16133
END:VEVENT

END:VCALENDAR
