BEGIN:VCALENDAR
VERSION:2.0
PRODID:-//ChamberMaster//Event Calendar 2.0//EN
METHOD:PUBLISH
X-PUBLISHED-TTL:P3D
REFRESH-INTERVAL:P3D
CALSCALE:GREGORIAN
BEGIN:VEVENT
DTSTART:20200118T200000Z
DTEND:20200118T220000Z
X-MICROSOFT-CDO-ALLDAYEVENT:FALSE
SUMMARY:Denison Suzuki Program "Winter Festival"
DESCRIPTION:Denison University Department of Music presents a Suzuki Program "Winter Festival" offering free parent talks and student musical practicing forums.\nThe Suzuki Program is offering several free musical events including Chilly Cellos\, Flutes in the Frost\, Polar Pianos and Strings in the Snow. In addition\, guest clinicians along with Denison University faculty members will provide parent talks throughout the day on Saturday. \n \n\nSchedule as follows:\n\n3 p.m. in Eisner 144: Flutes in the Frost Informal Concert\n\n4 p.m. in the Burke Rehearsal Room: Chilly Cellos Informal Concert\n\n4 p.m. in the Burke Recital Hall: Polar Pianos\n\n4 p.m. in the Sharon Martin Hall: Strings in the Snow\n\n\n\nGenerous support for these events comes from the Granville Arts Commission and The Loft   Violin Shop.
X-ALT-DESC;FMTTYPE=text/html:<span style="background-color:transparent\; color:rgb(0\, 0\, 0)\; font-family:arial\; font-size:11pt">Denison University Department of Music presents a Suzuki Program &ldquo\;Winter Festival&rdquo\; offering free parent talks and student musical practicing forums.</span>\n<p><span style="background-color:transparent\; color:rgb(0\, 0\, 0)\; font-family:arial\; font-size:11pt">The Suzuki Program is offering several free musical events including Chilly Cellos\, Flutes in the Frost\, Polar Pianos and Strings in the Snow. In addition\, guest clinicians along with Denison University faculty members will provide parent talks throughout the day on Saturday.&nbsp\;</span></p>\n&nbsp\;\n\n<p><span style="background-color:transparent\; color:rgb(0\, 0\, 0)\; font-family:arial\; font-size:11pt">Schedule as follows:</span></p>\n\n<p><span style="background-color:transparent\; color:rgb(0\, 0\, 0)\; font-family:arial\; font-size:11pt">3 p.m. in Eisner 144: Flutes in the Frost Informal Concert</span></p>\n\n<p><span style="background-color:transparent\; color:rgb(0\, 0\, 0)\; font-family:arial\; font-size:11pt">4 p.m. in the Burke Rehearsal Room: Chilly Cellos Informal Concert</span></p>\n\n<p><span style="background-color:transparent\; color:rgb(0\, 0\, 0)\; font-family:arial\; font-size:11pt">4 p.m. in the Burke Recital Hall: Polar Pianos</span></p>\n\n<p><span style="background-color:transparent\; color:rgb(0\, 0\, 0)\; font-family:arial\; font-size:11pt">4 p.m. in the Sharon Martin Hall: Strings in the Snow</span></p>\n\n<p><br />\n<span style="background-color:transparent\; color:rgb(0\, 0\, 0)\; font-family:arial\; font-size:11pt">Generous support for these events comes from the Granville Arts Commission and The Loft &nbsp\; Violin Shop.</span></p>\n\n<div>&nbsp\;</div>\n
LOCATION:Denison University Michael D. Eisner Center for the Performing Arts 240 West Broadway
UID:e.180.14054
SEQUENCE:3
DTSTAMP:20260422T170926Z
URL:https://business.granvilleoh.com/events/details/denison-suzuki-program-winter-festival-14054
END:VEVENT

END:VCALENDAR
