BEGIN:VCALENDAR
VERSION:2.0
PRODID:-//ChamberMaster//Event Calendar 2.0//EN
METHOD:PUBLISH
X-PUBLISHED-TTL:P3D
REFRESH-INTERVAL:P3D
CALSCALE:GREGORIAN
BEGIN:VEVENT
DTSTART:20211204T000000Z
DTEND:20211204T010000Z
X-MICROSOFT-CDO-ALLDAYEVENT:FALSE
SUMMARY:Department of Music presents American Roots Ensemble
DESCRIPTION:The American Roots Ensemble\, under the direction of Adam Schlenker\, presents a concert showcasing music from three John Hartford albums. Each album reflects a different approach for arranging strings band music: bluegrass\, old-time and a more primitive style often referred to as jug band. The students have been working to develop sets of music that represent each of these approaches making this show one of our most diverse offerings to date.
X-ALT-DESC;FMTTYPE=text/html:<div>\n<p>The American Roots Ensemble\, under the direction of Adam Schlenker\, presents a concert showcasing music from three John Hartford albums. Each album reflects a different approach for arranging strings band music: bluegrass\, old-time and a more primitive style often referred to as jug band. The students have been working to develop sets of music that represent each of these approaches making this show one of our most diverse offerings to date.</p>\n\n<div>&nbsp\;</div>\n</div>\n
LOCATION:Swasey Chapel 200 Chapel Dr
UID:e.180.16131
SEQUENCE:3
DTSTAMP:20260421T100441Z
URL:https://business.granvilleoh.com/events/details/department-of-music-presents-american-roots-ensemble-16131
END:VEVENT

END:VCALENDAR
