BEGIN:VCALENDAR
VERSION:2.0
PRODID:-//ChamberMaster//Event Calendar 2.0//EN
METHOD:PUBLISH
X-PUBLISHED-TTL:P3D
REFRESH-INTERVAL:P3D
CALSCALE:GREGORIAN
BEGIN:VEVENT
DTSTART:20200308T180000Z
DTEND:20200308T193000Z
X-MICROSOFT-CDO-ALLDAYEVENT:FALSE
SUMMARY:Dig It! Teen Crafternoon
DESCRIPTION:Teens\, pop in to add some green to your space. Let your creativity sprout and the pun-shine in as we decorate flowerpots. We'll provide the plants. Exclusively for grades 7-12. Register at Granvillelibrary.org/calendar.
X-ALT-DESC;FMTTYPE=text/html:Teens\, pop in to add some green to your space. Let your creativity sprout and the pun-shine in as we decorate flowerpots. We&#39\;ll provide the plants. Exclusively for grades 7-12. Register at Granvillelibrary.org/calendar.
LOCATION:Granville Public Library
UID:e.180.14290
SEQUENCE:3
DTSTAMP:20260422T142546Z
URL:https://business.granvilleoh.com/events/details/dig-it-teen-crafternoon-14290
END:VEVENT

END:VCALENDAR
