BEGIN:VCALENDAR
VERSION:2.0
PRODID:-//ChamberMaster//Event Calendar 2.0//EN
METHOD:PUBLISH
X-PUBLISHED-TTL:P3D
REFRESH-INTERVAL:P3D
CALSCALE:GREGORIAN
BEGIN:VEVENT
DTSTART:20210609T180000Z
DTEND:20210609T183000Z
X-MICROSOFT-CDO-ALLDAYEVENT:FALSE
SUMMARY:Draw-a-Tale with Jarrett Lerner
DESCRIPTION:Bring drawing materials to this live program with Jarrett Lerner\, author of EngiNerds series\, as he leads a storytelling animal adventure. Rising Grades K to 3. Register to receive Zoom login the day of the program. GranvilleLibrary.org/calendar/month
X-ALT-DESC;FMTTYPE=text/html:Bring drawing materials to this live program with Jarrett Lerner\, author of EngiNerds series\, as he leads a storytelling animal adventure. Rising Grades K to 3. Register to receive Zoom login the day of the program. GranvilleLibrary.org/calendar/month
LOCATION:Granville Public Library via Zoom
UID:e.180.14795
SEQUENCE:3
DTSTAMP:20260421T175139Z
URL:https://business.granvilleoh.com/events/details/draw-a-tale-with-jarrett-lerner-14795
END:VEVENT

END:VCALENDAR
