BEGIN:VCALENDAR
VERSION:2.0
PRODID:-//ChamberMaster//Event Calendar 2.0//EN
METHOD:PUBLISH
X-PUBLISHED-TTL:P3D
REFRESH-INTERVAL:P3D
CALSCALE:GREGORIAN
BEGIN:VEVENT
DTSTART:20200604T200000Z
DTEND:20200604T210000Z
X-MICROSOFT-CDO-ALLDAYEVENT:FALSE
SUMMARY:Drawing Club
DESCRIPTION:Hang out and draw. Zoom Register at GranvilleLibrary.org/calendar/month to receive login the day of the program. (Limited to 30 participants) Rising Grades 4 to 6.
X-ALT-DESC;FMTTYPE=text/html:Hang out and draw. Zoom&mdash\;Register at GranvilleLibrary.org/calendar/month to receive login the day of the program. (Limited to 30 participants) Rising Grades 4 to 6.
LOCATION:Granville Public Library
UID:e.180.14508
SEQUENCE:3
DTSTAMP:20260422T102211Z
URL:https://business.granvilleoh.com/events/details/drawing-club-06-04-2020-14508
END:VEVENT

END:VCALENDAR
