BEGIN:VCALENDAR
VERSION:2.0
PRODID:-//ChamberMaster//Event Calendar 2.0//EN
METHOD:PUBLISH
X-PUBLISHED-TTL:P3D
REFRESH-INTERVAL:P3D
CALSCALE:GREGORIAN
BEGIN:VEVENT
DTSTART:20200702T200000Z
DTEND:20200702T210000Z
X-MICROSOFT-CDO-ALLDAYEVENT:FALSE
SUMMARY:Drawing Club
DESCRIPTION:Hang out and draw. Zoom-Register to receive login the day of the program. (Limited to 30 participants) Rising Grades 4 to 6. Register at GranvilleLibrary.org Zoom link will be emailed approximately 25 minutes before the program. Contact Betsy with any questions: bwernert@granvillelibrary
X-ALT-DESC;FMTTYPE=text/html:Hang out and draw. Zoom-Register to receive login the day of the program. (Limited to 30 participants) Rising Grades 4 to 6. Register at GranvilleLibrary.org Zoom link will be emailed approximately 25 minutes before the program. Contact Betsy with any questions: bwernert@granvillelibrary
LOCATION:Granville Public Library via Zoom
UID:e.180.14557
SEQUENCE:3
DTSTAMP:20260422T090750Z
URL:https://business.granvilleoh.com/events/details/drawing-club-07-02-2020-14557
END:VEVENT

END:VCALENDAR
