BEGIN:VCALENDAR
VERSION:2.0
PRODID:-//ChamberMaster//Event Calendar 2.0//EN
METHOD:PUBLISH
X-PUBLISHED-TTL:P3D
REFRESH-INTERVAL:P3D
CALSCALE:GREGORIAN
BEGIN:VEVENT
DTSTART:20210805T200000Z
DTEND:20210805T204500Z
X-MICROSOFT-CDO-ALLDAYEVENT:FALSE
SUMMARY:Drawing Club
DESCRIPTION:Hang out and draw. Drawing materials provided. Artwork created during this program will be showcased on the library's book bike during Art of Broadway on August 7 from 5-6pm between Reader's Garden Patio and Art@43023. Rising Grades 4 to 6 Sinnett House Patio (in case of rain\, the program will be moved to the Library's Community Room)
X-ALT-DESC;FMTTYPE=text/html:Hang out and draw. Drawing materials provided. Artwork created during this program will be showcased on the library&#39\;s book bike during Art of Broadway on August 7 from 5-6pm between Reader&#39\;s Garden Patio and Art@43023. Rising Grades 4 to 6 Sinnett House Patio (in case of rain\, the program will be moved to the Library&rsquo\;s Community Room)
LOCATION:Granville Public Library
UID:e.180.16037
SEQUENCE:3
DTSTAMP:20260421T152714Z
URL:https://business.granvilleoh.com/events/details/drawing-club-08-05-2021-16037
END:VEVENT

END:VCALENDAR
