BEGIN:VCALENDAR
VERSION:2.0
PRODID:-//ChamberMaster//Event Calendar 2.0//EN
METHOD:PUBLISH
X-PUBLISHED-TTL:P3D
REFRESH-INTERVAL:P3D
CALSCALE:GREGORIAN
BEGIN:VEVENT
DTSTART:20210812T200000Z
DTEND:20210812T203000Z
X-MICROSOFT-CDO-ALLDAYEVENT:FALSE
SUMMARY:Drawing Club Jr.
DESCRIPTION:Hang out and draw. Drawing materials provided. Rising Grades K to 3 Sinnett House Patio (in case of rain\, the program will be moved to the Library's Community Room)
X-ALT-DESC;FMTTYPE=text/html:Hang out and draw. Drawing materials provided. Rising Grades K to 3 Sinnett House Patio (in case of rain\, the program will be moved to the Library&rsquo\;s Community Room)
LOCATION:Granville Public Library
UID:e.180.16039
SEQUENCE:3
DTSTAMP:20260421T152643Z
URL:https://business.granvilleoh.com/events/details/drawing-club-jr-16039
END:VEVENT

END:VCALENDAR
