BEGIN:VCALENDAR
VERSION:2.0
PRODID:-//ChamberMaster//Event Calendar 2.0//EN
METHOD:PUBLISH
X-PUBLISHED-TTL:P3D
REFRESH-INTERVAL:P3D
CALSCALE:GREGORIAN
BEGIN:VEVENT
DTSTART:20210311T210000Z
DTEND:20210311T213000Z
X-MICROSOFT-CDO-ALLDAYEVENT:FALSE
SUMMARY:Drawing Club Jr. on Zoom
DESCRIPTION:Hang out and draw. Grades K to 3 Register with an email address to receive a Zoom login about an hour before the program. Register at GranvilleLibrary.org/calendar/month
X-ALT-DESC;FMTTYPE=text/html:Hang out and draw. Grades K to 3 Register with an email address to receive a Zoom login about an hour before the program. Register at GranvilleLibrary.org/calendar/month
LOCATION:Granville Public Library via Zoom
UID:e.180.14753
SEQUENCE:3
DTSTAMP:20260421T221028Z
URL:https://business.granvilleoh.com/events/details/drawing-club-jr-on-zoom-03-11-2021-14753
END:VEVENT

END:VCALENDAR
