BEGIN:VCALENDAR
VERSION:2.0
PRODID:-//ChamberMaster//Event Calendar 2.0//EN
METHOD:PUBLISH
X-PUBLISHED-TTL:P3D
REFRESH-INTERVAL:P3D
CALSCALE:GREGORIAN
BEGIN:VEVENT
DTSTART:20211111T213000Z
DTEND:20211111T220000Z
X-MICROSOFT-CDO-ALLDAYEVENT:FALSE
SUMMARY:Drawing Club\, Jr. on Zoom
DESCRIPTION:Hang out and draw. Grades K to 3 Register to receive a link about an hour before the program. We ask that an adult attend the program with children in Grade 3 and under. Register at GranvilleLibrary.org/calendar/month
X-ALT-DESC;FMTTYPE=text/html:Hang out and draw. Grades K to 3 Register to receive a link about an hour before the program. We ask that an adult attend the program with children in Grade 3 and under. Register at GranvilleLibrary.org/calendar/month
LOCATION:Granville Public Library via Zoom
UID:e.180.16109
SEQUENCE:3
DTSTAMP:20260421T112120Z
URL:https://business.granvilleoh.com/events/details/drawing-club-jr-on-zoom-11-11-2021-16109
END:VEVENT

END:VCALENDAR
