BEGIN:VCALENDAR
VERSION:2.0
PRODID:-//ChamberMaster//Event Calendar 2.0//EN
METHOD:PUBLISH
X-PUBLISHED-TTL:P3D
REFRESH-INTERVAL:P3D
CALSCALE:GREGORIAN
BEGIN:VEVENT
DTSTART:20201210T210000Z
DTEND:20201210T213000Z
X-MICROSOFT-CDO-ALLDAYEVENT:FALSE
SUMMARY:Drawing Club Jr. on Zoom
DESCRIPTION:Hang out and draw. (Grades K to 3) Second Thursdays\, 4-4:30pm November 12\, December 10 Register separately for each date with an email address to receive a Zoom login about an hour before the program. Register at GranvilleLibrary.org/calendar/month
X-ALT-DESC;FMTTYPE=text/html:Hang out and draw. (Grades K to 3) Second Thursdays\, 4-4:30pm November 12\, December 10 Register separately for each date with an email address to receive a Zoom login about an hour before the program. Register at GranvilleLibrary.org/calendar/month
LOCATION:Granville Public Library via Zoom
UID:e.180.14687
SEQUENCE:3
DTSTAMP:20260422T020318Z
URL:https://business.granvilleoh.com/events/details/drawing-club-jr-on-zoom-12-10-2020-14687
END:VEVENT

END:VCALENDAR
