BEGIN:VCALENDAR
VERSION:2.0
PRODID:-//ChamberMaster//Event Calendar 2.0//EN
METHOD:PUBLISH
X-PUBLISHED-TTL:P3D
REFRESH-INTERVAL:P3D
CALSCALE:GREGORIAN
BEGIN:VEVENT
DTSTART:20200910T200000Z
DTEND:20200910T203000Z
X-MICROSOFT-CDO-ALLDAYEVENT:FALSE
SUMMARY:Drawing Club Jr. on Zoom
DESCRIPTION:Hang out and draw. (Grades K to 3)\n\nSecond Thursdays\, 4-4:30pm\nSeptember 10\, October 8\n\nRegister with an email address to receive a Zoom login about an hour before the program. Granvillelibrary.org/calendar/month
X-ALT-DESC;FMTTYPE=text/html:Hang out and draw. (Grades K to 3)\n\nSecond Thursdays\, 4-4:30pm\nSeptember 10\, October 8\n\nRegister with an email address to receive a Zoom login about an hour before the program. Granvillelibrary.org/calendar/month\n
LOCATION:Granville Public Library via Zoom
UID:e.180.14582
SEQUENCE:3
DTSTAMP:20260422T060118Z
URL:https://business.granvilleoh.com/events/details/drawing-club-jr-on-zoom-14582
END:VEVENT

END:VCALENDAR
