BEGIN:VCALENDAR
VERSION:2.0
PRODID:-//ChamberMaster//Event Calendar 2.0//EN
METHOD:PUBLISH
X-PUBLISHED-TTL:P3D
REFRESH-INTERVAL:P3D
CALSCALE:GREGORIAN
BEGIN:VEVENT
DTSTART:20211007T203000Z
DTEND:20211007T210000Z
X-MICROSOFT-CDO-ALLDAYEVENT:FALSE
SUMMARY:Drawing Club on Zoom
DESCRIPTION:Hang out and draw. Grades 4 to 6 Register at GranvilleLibrary.org/calendar/month to receive a link to the Zoom meeting about an hour before the program.
X-ALT-DESC;FMTTYPE=text/html:Hang out and draw. Grades 4 to 6 Register at GranvilleLibrary.org/calendar/month to receive a link to the Zoom meeting about an hour before the program.
LOCATION:Granville Public Library via Zoom
UID:e.180.16076
SEQUENCE:3
DTSTAMP:20260421T125643Z
URL:https://business.granvilleoh.com/events/details/drawing-club-on-zoom-10-07-2021-16076
END:VEVENT

END:VCALENDAR
