BEGIN:VCALENDAR
VERSION:2.0
PRODID:-//ChamberMaster//Event Calendar 2.0//EN
METHOD:PUBLISH
X-PUBLISHED-TTL:P3D
REFRESH-INTERVAL:P3D
CALSCALE:GREGORIAN
BEGIN:VEVENT
DTSTART:20211104T203000Z
DTEND:20211104T210000Z
X-MICROSOFT-CDO-ALLDAYEVENT:FALSE
SUMMARY:Drawing Club on Zoom
DESCRIPTION:Hang out and draw. Grades 4 to 6 Register to receive a link to the Zoom meeting about an hour before the program. Register at GranvilleLibrary.org/calendar/month
X-ALT-DESC;FMTTYPE=text/html:Hang out and draw. Grades 4 to 6 Register to receive a link to the Zoom meeting about an hour before the program. Register at GranvilleLibrary.org/calendar/month
LOCATION:Granville Public Library via zoom
UID:e.180.16104
SEQUENCE:3
DTSTAMP:20260421T112011Z
URL:https://business.granvilleoh.com/events/details/drawing-club-on-zoom-11-04-2021-16104
END:VEVENT

END:VCALENDAR
