BEGIN:VCALENDAR
VERSION:2.0
PRODID:-//ChamberMaster//Event Calendar 2.0//EN
METHOD:PUBLISH
X-PUBLISHED-TTL:P3D
REFRESH-INTERVAL:P3D
CALSCALE:GREGORIAN
BEGIN:VEVENT
DTSTART:20211202T213000Z
DTEND:20211202T220000Z
X-MICROSOFT-CDO-ALLDAYEVENT:FALSE
SUMMARY:Drawing Club on Zoom
DESCRIPTION:Hang out and draw. Register at GranvilleLibrary.org/calendar/month Grades 4 to 6 Register to receive a link to the Zoom meeting about an hour before the program.
X-ALT-DESC;FMTTYPE=text/html:Hang out and draw. Register at GranvilleLibrary.org/calendar/month Grades 4 to 6 Register to receive a link to the Zoom meeting about an hour before the program.
LOCATION:Granville Public Library
UID:e.180.16150
SEQUENCE:3
DTSTAMP:20260421T100318Z
URL:https://business.granvilleoh.com/events/details/drawing-club-on-zoom-12-02-2021-16150
END:VEVENT

END:VCALENDAR
