BEGIN:VCALENDAR
VERSION:2.0
PRODID:-//ChamberMaster//Event Calendar 2.0//EN
METHOD:PUBLISH
X-PUBLISHED-TTL:P3D
REFRESH-INTERVAL:P3D
CALSCALE:GREGORIAN
BEGIN:VEVENT
DTSTART:20201203T210000Z
DTEND:20201203T213000Z
X-MICROSOFT-CDO-ALLDAYEVENT:FALSE
SUMMARY:Drawing Club on Zoom
DESCRIPTION:Hang out and draw. (Grades 4 to 6) First Thursdays\, 4-4:30pm November 5\, December 3 Register separately for each date with an email address to receive a Zoom login about an hour before the program. Register at GranvilleLibrary.org/calendar/month
X-ALT-DESC;FMTTYPE=text/html:Hang out and draw. (Grades 4 to 6) First Thursdays\, 4-4:30pm November 5\, December 3 Register separately for each date with an email address to receive a Zoom login about an hour before the program. Register at GranvilleLibrary.org/calendar/month
LOCATION:Granville Public Library via Zoom
UID:e.180.14678
SEQUENCE:3
DTSTAMP:20260422T020304Z
URL:https://business.granvilleoh.com/events/details/drawing-club-on-zoom-12-03-2020-14678
END:VEVENT

END:VCALENDAR
