BEGIN:VCALENDAR
VERSION:2.0
PRODID:-//ChamberMaster//Event Calendar 2.0//EN
METHOD:PUBLISH
X-PUBLISHED-TTL:P3D
REFRESH-INTERVAL:P3D
CALSCALE:GREGORIAN
BEGIN:VEVENT
DTSTART:20200903T200000Z
DTEND:20200903T203000Z
X-MICROSOFT-CDO-ALLDAYEVENT:FALSE
SUMMARY:Drawing Club on Zoom
DESCRIPTION:Hang out and draw. (Grades 4 to 6) First Thursdays\, 4-4:30pm September 3\, October 1 Register with an email address at GranvilleLibrary.org/calendar/month to receive a Zoom login about an hour before the program.
X-ALT-DESC;FMTTYPE=text/html:Hang out and draw. (Grades 4 to 6) First Thursdays\, 4-4:30pm September 3\, October 1 Register with an email address at GranvilleLibrary.org/calendar/month to receive a Zoom login about an hour before the program.
LOCATION:Granville Public Library via Zoom
UID:e.180.14575
SEQUENCE:3
DTSTAMP:20260422T072157Z
URL:https://business.granvilleoh.com/events/details/drawing-club-on-zoom-14575
END:VEVENT

END:VCALENDAR
