BEGIN:VCALENDAR
VERSION:2.0
PRODID:-//ChamberMaster//Event Calendar 2.0//EN
METHOD:PUBLISH
X-PUBLISHED-TTL:P3D
REFRESH-INTERVAL:P3D
CALSCALE:GREGORIAN
BEGIN:VEVENT
DTSTART:20210107T230000Z
DTEND:20210108T010000Z
X-MICROSOFT-CDO-ALLDAYEVENT:FALSE
SUMMARY:Dungeons & Dragons
DESCRIPTION:Teens\, register to join us for a D&D adventure. If you have not played D&D with us before\, please have a character sheet ready before registering. D&D will run every other Thursday from 6-8 pm using Zoom and Roll20.net. Please register for each session you are able to attend. GranvilleLibrary.org/calendar/month Exclusively for kids in grades 7-12.
X-ALT-DESC;FMTTYPE=text/html:Teens\, register to join us for a D&amp\;D adventure. If you have not played D&amp\;D with us before\, please have a character sheet ready before registering. D&amp\;D will run every other Thursday from 6-8 pm using Zoom and Roll20.net. Please register for each session you are able to attend. GranvilleLibrary.org/calendar/month Exclusively for kids in grades 7-12.
LOCATION:Granville Public Library via Zoom
UID:e.180.14700
SEQUENCE:3
DTSTAMP:20260422T004744Z
URL:https://business.granvilleoh.com/events/details/dungeons-dragons-01-07-2021-14700
END:VEVENT

END:VCALENDAR
