BEGIN:VCALENDAR
VERSION:2.0
PRODID:-//ChamberMaster//Event Calendar 2.0//EN
METHOD:PUBLISH
X-PUBLISHED-TTL:P3D
REFRESH-INTERVAL:P3D
CALSCALE:GREGORIAN
BEGIN:VEVENT
DTSTART:20210614T220000Z
DTEND:20210615T000000Z
X-MICROSOFT-CDO-ALLDAYEVENT:FALSE
SUMMARY:Dungeons & Dragons
DESCRIPTION:Join us for Dungeons and Dragons fun! We will meet at the Wildwood park shelter house. If the weather is bad\, we will move inside instead- we'll still play! Space is limited so registration is required. Please register for each session you are able to attend. Register at GranvilleLibrary.org/calendar/month For rising 7-12 graders! The session runs from June 7-July 26. No game on July 5th.
X-ALT-DESC;FMTTYPE=text/html:Join us for Dungeons and Dragons fun! We will meet at the Wildwood park shelter house. If the weather is bad\, we will move inside instead- we&#39\;ll still play! Space is limited so registration is required. Please register for each session you are able to attend. Register at GranvilleLibrary.org/calendar/month For rising 7-12 graders! The session runs from June 7-July 26. No game on July 5th.
LOCATION:Wildwood Park Shelterhouse
UID:e.180.14804
SEQUENCE:3
DTSTAMP:20260421T175145Z
URL:https://business.granvilleoh.com/events/details/dungeons-dragons-06-14-2021-14804
END:VEVENT

END:VCALENDAR
