BEGIN:VCALENDAR
VERSION:2.0
PRODID:-//ChamberMaster//Event Calendar 2.0//EN
METHOD:PUBLISH
X-PUBLISHED-TTL:P3D
REFRESH-INTERVAL:P3D
CALSCALE:GREGORIAN
BEGIN:VEVENT
DTSTART:20200622T220000Z
DTEND:20200623T000000Z
X-MICROSOFT-CDO-ALLDAYEVENT:FALSE
SUMMARY:Dungeons & Dragons
DESCRIPTION:Adventure awaits! Join us for a round of D&D. Have your account and character set up in Roll20.net and we'll play using Zoom. A dice rolling app is available within the Roll20 program. We'll use break out rooms in Zoom to create smaller games. This program is exclusively for kids entering grades 7-12 this fall. Each participant must register and have individual access to Zoom and Roll20.
X-ALT-DESC;FMTTYPE=text/html:Adventure awaits! Join us for a round of D&amp\;D. Have your account and character set up in Roll20.net and we&#39\;ll play using Zoom. A dice rolling app is available within the Roll20 program. We&#39\;ll use break out rooms in Zoom to create smaller games. This program is exclusively for kids entering grades 7-12 this fall. Each participant must register and have individual access to Zoom and Roll20.
LOCATION:Granville Public Library
UID:e.180.14538
SEQUENCE:3
DTSTAMP:20260422T102153Z
URL:https://business.granvilleoh.com/events/details/dungeons-dragons-06-22-2020-14538
END:VEVENT

END:VCALENDAR
