BEGIN:VCALENDAR
VERSION:2.0
PRODID:-//ChamberMaster//Event Calendar 2.0//EN
METHOD:PUBLISH
X-PUBLISHED-TTL:P3D
REFRESH-INTERVAL:P3D
CALSCALE:GREGORIAN
BEGIN:VEVENT
DTSTART:20200629T220000Z
DTEND:20200630T000000Z
X-MICROSOFT-CDO-ALLDAYEVENT:FALSE
SUMMARY:Dungeons & Dragons
DESCRIPTION:Adventure awaits! Join us for a round of D&D. Have your account and character set up in Roll20.net and we'll play using Zoom. A dice rolling app is available within the Roll20 program. We'll use break out rooms in Zoom to create smaller games. This program is exclusively for kids entering grades 7-12 this fall. Each participant must register and have individual access to Zoom and Roll20. Register at GranvilleLibrary.org/calendar/month Register for our Imagine Your Story Summer Library Program online or by downloading the Beanstack App to your phone and earn a chance to win one of our end of summer prizes each time you participate in a program.
X-ALT-DESC;FMTTYPE=text/html:Adventure awaits! Join us for a round of D&amp\;D. Have your account and character set up in Roll20.net and we&#39\;ll play using Zoom. A dice rolling app is available within the Roll20 program. We&#39\;ll use break out rooms in Zoom to create smaller games. This program is exclusively for kids entering grades 7-12 this fall. Each participant must register and have individual access to Zoom and Roll20. Register at GranvilleLibrary.org/calendar/month Register for our Imagine Your Story Summer Library Program online or by downloading the Beanstack App to your phone and earn a chance to win one of our end of summer prizes each time you participate in a program.
LOCATION:Granville Public Library via Zoom and Roll20
UID:e.180.14553
SEQUENCE:3
DTSTAMP:20260422T102152Z
URL:https://business.granvilleoh.com/events/details/dungeons-dragons-06-29-2020-14553
END:VEVENT

END:VCALENDAR
