BEGIN:VCALENDAR
VERSION:2.0
PRODID:-//ChamberMaster//Event Calendar 2.0//EN
METHOD:PUBLISH
X-PUBLISHED-TTL:P3D
REFRESH-INTERVAL:P3D
CALSCALE:GREGORIAN
BEGIN:VEVENT
DTSTART:20201203T230000Z
DTEND:20201204T010000Z
X-MICROSOFT-CDO-ALLDAYEVENT:FALSE
SUMMARY:Dungeons & Dragons
DESCRIPTION:Teens\, register to join us for a D&D adventure. New to D&D? We will help you get started. D&D will run every other Thursday from 6-8 pm using Zoom and Roll20.net. Please register for each session you are able to attend. Exclusively for kids in grades 7-12. Register at GranvilleLibrary.org/calendar/month
X-ALT-DESC;FMTTYPE=text/html:Teens\, register to join us for a D&amp\;D adventure. New to D&amp\;D? We will help you get started. D&amp\;D will run every other Thursday from 6-8 pm using Zoom and Roll20.net. Please register for each session you are able to attend. Exclusively for kids in grades 7-12. Register at GranvilleLibrary.org/calendar/month
LOCATION:Granville Public Library
UID:e.180.14680
SEQUENCE:3
DTSTAMP:20260422T020002Z
URL:https://business.granvilleoh.com/events/details/dungeons-dragons-12-03-2020-14680
END:VEVENT

END:VCALENDAR
