BEGIN:VCALENDAR
VERSION:2.0
PRODID:-//ChamberMaster//Event Calendar 2.0//EN
METHOD:PUBLISH
X-PUBLISHED-TTL:P3D
REFRESH-INTERVAL:P3D
CALSCALE:GREGORIAN
BEGIN:VEVENT
DTSTART:20200910T220000Z
DTEND:20200911T000000Z
X-MICROSOFT-CDO-ALLDAYEVENT:FALSE
SUMMARY:Dungeons & Dragons- College Edition
DESCRIPTION:College-aged kids\, are you stuck at home this semester?  Register to join us for a D&D adventure.  New to D&D?  Be sure to register for our Learn to Play Session on Sept. 3.  Players must have attended that program or have some experience and a character ready to set up to join.   \nD&D will run every other Thursday from 6-8 pm using Zoom and Roll20.net.   Please register for each session you are able to attend.
X-ALT-DESC;FMTTYPE=text/html:College-aged kids\, are you stuck at home this semester?  Register to join us for a D&amp\;D adventure.  New to D&amp\;D?  Be sure to register for our Learn to Play Session on Sept. 3.  Players must have attended that program or have some experience and a character ready to set up to join.   \nD&amp\;D will run every other Thursday from 6-8 pm using Zoom and Roll20.net.   Please register for each session you are able to attend.
LOCATION:Granville Public Library
UID:e.180.14583
SEQUENCE:3
DTSTAMP:20260422T060014Z
URL:https://business.granvilleoh.com/events/details/dungeons-dragons-college-edition-14583
END:VEVENT

END:VCALENDAR
