BEGIN:VCALENDAR
VERSION:2.0
PRODID:-//ChamberMaster//Event Calendar 2.0//EN
METHOD:PUBLISH
X-PUBLISHED-TTL:P3D
REFRESH-INTERVAL:P3D
CALSCALE:GREGORIAN
BEGIN:VEVENT
DTSTART:20200128T000000Z
DTEND:20200128T013000Z
X-MICROSOFT-CDO-ALLDAYEVENT:FALSE
SUMMARY:Eastern Standard Trio
DESCRIPTION:The Department of Music welcomes the Eastern Standard Trio. Eastern Standard formed in August of 2014 when its members met and discovered they shared the same passion for making chamber music and wanted to see what they could do to propagate and extend the repertoire for the horn/tuba/piano trio. To that end\, the group has been active in seeking funding\, identifying collaborative composers\, and engaging in commissioning\, recording\, and performance projects. The unique blend of the conical brass instruments with piano is one which is both beautiful and expressive. Eastern Standard hopes to make the general awareness of this instrumentation more mainstream. To date\, the ensemble has commissioned 12 works for horn/tuba/piano trio.
X-ALT-DESC;FMTTYPE=text/html:<span style="color:rgb(69\, 69\, 69)\; font-family:freight sans pro w00\; font-size:19.2px">The Department of Music welcomes the Eastern Standard Trio. Eastern Standard formed in August of 2014 when its members met and discovered they shared the same passion for making chamber music and wanted to see what they could do to propagate and extend the repertoire for the horn/tuba/piano trio. To that end\, the group has been active in seeking funding\, identifying collaborative composers\, and engaging in commissioning\, recording\, and performance projects. The unique blend of the conical brass instruments with piano is one which is both beautiful and expressive. Eastern Standard hopes to make the general awareness of this instrumentation more mainstream. To date\, the ensemble has commissioned 12 works for horn/tuba/piano trio.</span>
LOCATION:Denison University Burke Recital Hall in the Michael D. Eisner Center for Performing Arts 240 West Broadway
UID:e.180.14068
SEQUENCE:3
DTSTAMP:20260422T170747Z
URL:https://business.granvilleoh.com/events/details/eastern-standard-trio-14068
END:VEVENT

END:VCALENDAR
