BEGIN:VCALENDAR
VERSION:2.0
PRODID:-//ChamberMaster//Event Calendar 2.0//EN
METHOD:PUBLISH
X-PUBLISHED-TTL:P3D
REFRESH-INTERVAL:P3D
CALSCALE:GREGORIAN
BEGIN:VEVENT
DTSTART;VALUE=DATE:20201213
DTEND;VALUE=DATE:20201214
TRANSP:TRANSPARENT
X-MICROSOFT-CDO-ALLDAYEVENT:TRUE
SUMMARY:Ebenezer Duke: A Musical on YouTube
DESCRIPTION:Online access to the YouTube video will be available Sunday\, December 13- Saturday\, December 26 For families with kids of all ages. Email clydethecoyote@granvillelibrary.org for private YouTube link.
X-ALT-DESC;FMTTYPE=text/html:Online access to the YouTube video will be available Sunday\, December 13- Saturday\, December 26 For families with kids of all ages. Email clydethecoyote@granvillelibrary.org for private YouTube link.
LOCATION:Granville Public Library
UID:e.180.14692
SEQUENCE:3
DTSTAMP:20260422T020114Z
URL:https://business.granvilleoh.com/events/details/ebenezer-duke-a-musical-on-youtube-14692
END:VEVENT

END:VCALENDAR
