BEGIN:VCALENDAR
VERSION:2.0
PRODID:-//ChamberMaster//Event Calendar 2.0//EN
METHOD:PUBLISH
X-PUBLISHED-TTL:P3D
REFRESH-INTERVAL:P3D
CALSCALE:GREGORIAN
BEGIN:VEVENT
DTSTART:20211015T170000Z
DTEND:20211015T183000Z
X-MICROSOFT-CDO-ALLDAYEVENT:FALSE
SUMMARY:Escape Room Z (teens)
DESCRIPTION:Escape the Zombies! Teens\, work with your team to escape the zombie apocalypse on your day off of school. Solve the clues to be the first team to escape! For grades 7-12. Registration at Granvillelibrary.org/calendar/month
X-ALT-DESC;FMTTYPE=text/html:Escape the Zombies! Teens\, work with your team to escape the zombie apocalypse on your day off of school. Solve the clues to be the first team to escape! For grades 7-12. Registration at Granvillelibrary.org/calendar/month
LOCATION:Granville Public Library
UID:e.180.16087
SEQUENCE:3
DTSTAMP:20260421T125430Z
URL:https://business.granvilleoh.com/events/details/escape-room-z-teens-16087
END:VEVENT

END:VCALENDAR
