BEGIN:VCALENDAR
VERSION:2.0
PRODID:-//ChamberMaster//Event Calendar 2.0//EN
METHOD:PUBLISH
X-PUBLISHED-TTL:P3D
REFRESH-INTERVAL:P3D
CALSCALE:GREGORIAN
BEGIN:VEVENT
DTSTART:20210115T220000Z
DTEND:20210115T230000Z
X-MICROSOFT-CDO-ALLDAYEVENT:FALSE
SUMMARY:ETHEL and Friends: Balcony Bar from Home\, featuring Ching-chu Hu and other Denison faculty
DESCRIPTION:Experience The Metropolitan Museum of Art virtual performances of "Balcony Bar with ETHEL"  one of Denison's Ensembles-in-Residence and one of the most acclaimed string quartets in the contemporary classical field\, as they share performances every Friday evening at 5 p.m. ET.  \n\nFriday\, January 15 features the works of Ching-chu Hu\, Richard Lucier Endowed Professor of Music at Denison\, along with ETHEL's Cory Lee\, Assistant Professors Sun Min Kim and Hanna Hurwitz\, and cellist Hilary Glen. Featured works are excerpts and movements from "Passions\, Pulse\, Snow Ash\, and Night."\n\nWatch on Facebook at https://fb.me/e/4GjPPyNL8
X-ALT-DESC;FMTTYPE=text/html:<p>Experience The Metropolitan Museum of Art virtual performances of &ldquo\;Balcony Bar with ETHEL&rdquo\; &mdash\;one of Denison&rsquo\;s Ensembles-in-Residence and one of the most acclaimed string quartets in the contemporary classical field\, as they share performances every Friday evening at 5 p.m. ET.&nbsp\;&nbsp\;</p>\n\n<p>Friday\, January 15 features the works of Ching-chu Hu\, Richard Lucier Endowed Professor of Music at Denison\, along with ETHEL&rsquo\;s Cory Lee\, Assistant Professors Sun Min Kim and Hanna Hurwitz\, and cellist Hilary Glen. Featured works are excerpts and movements from &ldquo\;Passions\, Pulse\, Snow Ash\, and Night.&rdquo\;</p>\n\n<p>Watch on Facebook at&nbsp\;<a class="external-link" href="https://fb.me/e/4GjPPyNL8" style="color: rgb(162\, 2\, 35)\; text-decoration-line: none\; transition: all 0.25s cubic-bezier(0.55\, 0.085\, 0\, 0.99) 0s\; padding-bottom: 2px\; border-bottom: 1px dotted rgb(221\, 221\, 221)\;" target="_blank">https://fb.me/e/4GjPPyNL8</a></p>\n
LOCATION:Virtual
UID:e.180.14721
SEQUENCE:3
DTSTAMP:20260422T010001Z
URL:https://business.granvilleoh.com/events/details/ethel-and-friends-balcony-bar-from-home-featuring-ching-chu-hu-and-other-denison-faculty-14721
END:VEVENT

END:VCALENDAR
