BEGIN:VCALENDAR
VERSION:2.0
PRODID:-//ChamberMaster//Event Calendar 2.0//EN
METHOD:PUBLISH
X-PUBLISHED-TTL:P3D
REFRESH-INTERVAL:P3D
CALSCALE:GREGORIAN
BEGIN:VEVENT
DTSTART:20210902T223000Z
DTEND:20210903T013000Z
X-MICROSOFT-CDO-ALLDAYEVENT:FALSE
SUMMARY:Fall Music Series with Acoustic Super Friends
DESCRIPTION:Join Cherry Valley Hotel for the return of the Music Series Thursdays in September\, 6:30pm-9:30pm! Celebrate fall with an incredible lineup and drink specials. The series will take place on a backdrop of our beautiful gazebo overlooking our gardens. Neighbors and hotel guests are invited to enjoy local cover bands at no cost. Guests are encouraged to bring their chairs but coolers (outside food and drink) must stay home. Guests will have the option to borrow chairs and purchase drinks and food. No reservation necessary but we ask that guests who choose to sit at the dining tables please purchase at least two drinks. Guests are also encouraged to enter for a chance to win prizes during the event! Band Line Up Thursdays 6:30 pm - 9:30 pm September 2: Acoustic Super Friends - Brings the best songs from the past 50 years September 9: Chaz & Nicki - An upbeat live acoustic show that mixes feel-good classic covers with harmony-rich originals. September 16: A.W. Duo (Amber & Walk from Mojoflo) - Two of Columbus' favorite duos brining the greatest hits September 23: Honey & Blue - A self-described mix of pop\, blues and soul. September 30: Rock This Way - Mini Tribute Band performing multiple tunes from the likes of Journey\, Bruno Mars\, The Who\, and many more.
X-ALT-DESC;FMTTYPE=text/html:Join Cherry Valley Hotel for the return of the Music Series Thursdays in September\, 6:30pm-9:30pm! Celebrate fall with an incredible lineup and drink specials. The series will take place on a backdrop of our beautiful gazebo overlooking our gardens. Neighbors and hotel guests are invited to enjoy local cover bands at no cost. Guests are encouraged to bring their chairs but coolers (outside food and drink) must stay home. Guests will have the option to borrow chairs and purchase drinks and food. No reservation necessary but we ask that guests who choose to sit at the dining tables please purchase at least two drinks. Guests are also encouraged to enter for a chance to win prizes during the event! Band Line Up Thursdays 6:30 pm - 9:30 pm September 2: Acoustic Super Friends - Brings the best songs from the past 50 years September 9: Chaz &amp\; Nicki - An upbeat live acoustic show that mixes feel-good classic covers with harmony-rich originals. September 16: A.W. Duo (Amber &amp\; Walk from Mojoflo) - Two of Columbus&#39\; favorite duos brining the greatest hits September 23: Honey &amp\; Blue - A self-described mix of pop\, blues and soul. September 30: Rock This Way - Mini Tribute Band performing multiple tunes from the likes of Journey\, Bruno Mars\, The Who\, and many more.
LOCATION:Cherry Valley Hotel 2299 Cherry Valley Road SE | Newark\, OH 43055
UID:e.180.16056
SEQUENCE:3
DTSTAMP:20260421T140453Z
URL:https://business.granvilleoh.com/events/details/fall-music-series-with-acoustic-super-friends-16056
END:VEVENT

END:VCALENDAR
