BEGIN:VCALENDAR
VERSION:2.0
PRODID:-//ChamberMaster//Event Calendar 2.0//EN
METHOD:PUBLISH
X-PUBLISHED-TTL:P3D
REFRESH-INTERVAL:P3D
CALSCALE:GREGORIAN
BEGIN:VEVENT
DTSTART:20200911T220000Z
DTEND:20200911T230000Z
X-MICROSOFT-CDO-ALLDAYEVENT:FALSE
SUMMARY:Family Game Night on Zoom
DESCRIPTION:Family teams compete against each other.\n\nSecond Fridays\, 6-7pm (Families with children in Grades K to 6\; limited to 15 families)\nSeptember 11\, October 9\n\nRegister with an email address to receive a Zoom login about an hour before the program.   Register at GranvilleLibrary.org/calendar/month
X-ALT-DESC;FMTTYPE=text/html:Family teams compete against each other.\n\nSecond Fridays\, 6-7pm (Families with children in Grades K to 6\; limited to 15 families)\nSeptember 11\, October 9\n\nRegister with an email address to receive a Zoom login about an hour before the program.   Register at GranvilleLibrary.org/calendar/month
LOCATION:Granville Public Library via Zoom
UID:e.180.14584
SEQUENCE:3
DTSTAMP:20260422T060124Z
URL:https://business.granvilleoh.com/events/details/family-game-night-on-zoom-14584
END:VEVENT

END:VCALENDAR
