BEGIN:VCALENDAR
VERSION:2.0
PRODID:-//ChamberMaster//Event Calendar 2.0//EN
METHOD:PUBLISH
X-PUBLISHED-TTL:P3D
REFRESH-INTERVAL:P3D
CALSCALE:GREGORIAN
BEGIN:VEVENT
DTSTART:20201009T220000Z
DTEND:20201009T230000Z
X-MICROSOFT-CDO-ALLDAYEVENT:FALSE
SUMMARY:Family Game Night via Zoom
DESCRIPTION:Family teams compete against each other.\n \n Second Fridays\, 6-7pm (Families with children in Grades K to 6\; limited to 15 families)\n \n Register with an email address to receive a Zoom login about an hour before the program.  GranvilleLibrary.org/calendar/month
X-ALT-DESC;FMTTYPE=text/html:Family teams compete against each other.\n \n Second Fridays\, 6-7pm (Families with children in Grades K to 6\; limited to 15 families)\n \n Register with an email address to receive a Zoom login about an hour before the program.  GranvilleLibrary.org/calendar/month
LOCATION:Granville Public Library via Zoom
UID:e.180.14614
SEQUENCE:3
DTSTAMP:20260422T044149Z
URL:https://business.granvilleoh.com/events/details/family-game-night-via-zoom-14614
END:VEVENT

END:VCALENDAR
