BEGIN:VCALENDAR
VERSION:2.0
PRODID:-//ChamberMaster//Event Calendar 2.0//EN
METHOD:PUBLISH
X-PUBLISHED-TTL:P3D
REFRESH-INTERVAL:P3D
CALSCALE:GREGORIAN
BEGIN:VEVENT
DTSTART:20200327T170000Z
DTEND:20200327T193000Z
X-MICROSOFT-CDO-ALLDAYEVENT:FALSE
SUMMARY:Family Movie Afternoon (PG)
DESCRIPTION:Bring pillows and blankets to get ready for this wizard filled movie.
X-ALT-DESC;FMTTYPE=text/html:Bring pillows and blankets to get ready for this wizard filled movie.
LOCATION:Granville Public Library
UID:e.180.14388
SEQUENCE:3
DTSTAMP:20260422T143017Z
URL:https://business.granvilleoh.com/events/details/family-movie-afternoon-pg-03-27-2020-14388
END:VEVENT

END:VCALENDAR
