BEGIN:VCALENDAR
VERSION:2.0
PRODID:-//ChamberMaster//Event Calendar 2.0//EN
METHOD:PUBLISH
X-PUBLISHED-TTL:P3D
REFRESH-INTERVAL:P3D
CALSCALE:GREGORIAN
BEGIN:VEVENT
DTSTART:20200325T183000Z
DTEND:20200325T203000Z
X-MICROSOFT-CDO-ALLDAYEVENT:FALSE
SUMMARY:Family Movie Afternoon (PG)
DESCRIPTION:Join us for an afternoon movie. Bring pillows and blankets to get comfy. Grades K-6
X-ALT-DESC;FMTTYPE=text/html:Join us for an afternoon movie. Bring pillows and blankets to get comfy. Grades K-6
LOCATION:Granville Public Library
UID:e.180.14383
SEQUENCE:3
DTSTAMP:20260422T142837Z
URL:https://business.granvilleoh.com/events/details/family-movie-afternoon-pg-14383
END:VEVENT

END:VCALENDAR
