BEGIN:VCALENDAR
VERSION:2.0
PRODID:-//ChamberMaster//Event Calendar 2.0//EN
METHOD:PUBLISH
X-PUBLISHED-TTL:P3D
REFRESH-INTERVAL:P3D
CALSCALE:GREGORIAN
BEGIN:VEVENT
DTSTART:20200117T223000Z
DTEND:20200118T010000Z
X-MICROSOFT-CDO-ALLDAYEVENT:FALSE
SUMMARY:Family Movie Night
DESCRIPTION:Bring pillows\, blankets\, and a picnic dinner for the adventures of a girl and her new found yeti friend. Popcorn provided. Families with kids of all ages are welcome. No admittance to the library after 6pm. Movie starts promptly at 6pm.
X-ALT-DESC;FMTTYPE=text/html:Bring pillows\, blankets\, and a picnic dinner for the adventures of a girl and her new found yeti friend. Popcorn provided. Families with kids of all ages are welcome. No admittance to the library after 6pm. Movie starts promptly at 6pm.
LOCATION:Granville Public Library
UID:e.180.14020
SEQUENCE:3
DTSTAMP:20260422T171228Z
URL:https://business.granvilleoh.com/events/details/family-movie-night-14020
END:VEVENT

END:VCALENDAR
