BEGIN:VCALENDAR
VERSION:2.0
PRODID:-//ChamberMaster//Event Calendar 2.0//EN
METHOD:PUBLISH
X-PUBLISHED-TTL:P3D
REFRESH-INTERVAL:P3D
CALSCALE:GREGORIAN
BEGIN:VEVENT
DTSTART:20200417T213000Z
DTEND:20200418T000000Z
X-MICROSOFT-CDO-ALLDAYEVENT:FALSE
SUMMARY:Family Movie Night (PG)
DESCRIPTION:Bring pillows\, blankets\, and a picnic dinner. Popcorn provided. Families with kids of all ages. No admittance to the library after 6pm. Movie starts promptly at 6pm.
X-ALT-DESC;FMTTYPE=text/html:Bring pillows\, blankets\, and a picnic dinner. Popcorn provided. Families with kids of all ages. No admittance to the library after 6pm. Movie starts promptly at 6pm.
LOCATION:Granville Public Library
UID:e.180.14408
SEQUENCE:3
DTSTAMP:20260422T131221Z
URL:https://business.granvilleoh.com/events/details/family-movie-night-pg-04-17-2020-14408
END:VEVENT

END:VCALENDAR
