BEGIN:VCALENDAR
VERSION:2.0
PRODID:-//ChamberMaster//Event Calendar 2.0//EN
METHOD:PUBLISH
X-PUBLISHED-TTL:P3D
REFRESH-INTERVAL:P3D
CALSCALE:GREGORIAN
BEGIN:VEVENT
DTSTART:20200829T220000Z
DTEND:20200829T230000Z
X-MICROSOFT-CDO-ALLDAYEVENT:FALSE
SUMMARY:Family Scavenger Hunt
DESCRIPTION:Race against other family teams to locate scavenger list items in your house. For families with kids of all ages. Register at Granvillelibrary.org/calendar/month to received Zoom link about 20 minutes before the program. Email questions to: bwernert@granvillelibrary.org
X-ALT-DESC;FMTTYPE=text/html:Race against other family teams to locate scavenger list items in your house. For families with kids of all ages. Register at Granvillelibrary.org/calendar/month to received Zoom link about 20 minutes before the program. Email questions to: bwernert@granvillelibrary.org
LOCATION:Granville Public LIbrary via Zoom
UID:e.180.14573
SEQUENCE:3
DTSTAMP:20260422T072223Z
URL:https://business.granvilleoh.com/events/details/family-scavenger-hunt-14573
END:VEVENT

END:VCALENDAR
