BEGIN:VCALENDAR
VERSION:2.0
PRODID:-//ChamberMaster//Event Calendar 2.0//EN
METHOD:PUBLISH
X-PUBLISHED-TTL:P3D
REFRESH-INTERVAL:P3D
CALSCALE:GREGORIAN
BEGIN:VEVENT
DTSTART:20210615T170000Z
DTEND:20210615T180000Z
X-MICROSOFT-CDO-ALLDAYEVENT:FALSE
SUMMARY:Felted Animal Craft for Teens
DESCRIPTION:We'll supply everything you need to create your own felted wool critter! Meet on the patio behind the Sinnett House. If the weather is uncooperative\, we will meet in the library. Grades 7-12. Registration required. Register at GranvilleLibrary.org/calendar
X-ALT-DESC;FMTTYPE=text/html:We&#39\;ll supply everything you need to create your own felted wool critter! Meet on the patio behind the Sinnett House. If the weather is uncooperative\, we will meet in the library. Grades 7-12. Registration required. Register at GranvilleLibrary.org/calendar
LOCATION:Granville Public Library Sinnett House Patio
UID:e.180.14805
SEQUENCE:3
DTSTAMP:20260421T175300Z
URL:https://business.granvilleoh.com/events/details/felted-animal-craft-for-teens-14805
END:VEVENT

END:VCALENDAR
