BEGIN:VCALENDAR
VERSION:2.0
PRODID:-//ChamberMaster//Event Calendar 2.0//EN
METHOD:PUBLISH
X-PUBLISHED-TTL:P3D
REFRESH-INTERVAL:P3D
CALSCALE:GREGORIAN
BEGIN:VEVENT
DTSTART:20200228T223000Z
DTEND:20200229T000000Z
X-MICROSOFT-CDO-ALLDAYEVENT:FALSE
SUMMARY:Final Fridays: Is It Spring YETI?
DESCRIPTION:In February warm weather can be as elusive as Bigfoot. Join us for cryptid-themed indoor fun with crafts and games. Grades 7-12
X-ALT-DESC;FMTTYPE=text/html:In February warm weather can be as elusive as Bigfoot. Join us for cryptid-themed indoor fun with crafts and games. Grades 7-12
LOCATION:Granville Public Library
UID:e.180.14276
SEQUENCE:3
DTSTAMP:20260422T154105Z
URL:https://business.granvilleoh.com/events/details/final-fridays-is-it-spring-yeti-14276
END:VEVENT

END:VCALENDAR
