BEGIN:VCALENDAR
VERSION:2.0
PRODID:-//ChamberMaster//Event Calendar 2.0//EN
METHOD:PUBLISH
X-PUBLISHED-TTL:P3D
REFRESH-INTERVAL:P3D
CALSCALE:GREGORIAN
BEGIN:VEVENT
DTSTART:20200131T223000Z
DTEND:20200201T000000Z
X-MICROSOFT-CDO-ALLDAYEVENT:FALSE
SUMMARY:Final Fridays: Know the Score
DESCRIPTION:Teens\, bring your "A" game to the library gridiron. Move your team down the field with fun minute-to-win-it games.
X-ALT-DESC;FMTTYPE=text/html:Teens\, bring your &quot\;A&quot\; game to the library gridiron. Move your team down the field with fun minute-to-win-it games.
LOCATION:Granville Public Library
UID:e.180.14031
SEQUENCE:3
DTSTAMP:20260422T170814Z
URL:https://business.granvilleoh.com/events/details/final-fridays-know-the-score-14031
END:VEVENT

END:VCALENDAR
