BEGIN:VCALENDAR
VERSION:2.0
PRODID:-//ChamberMaster//Event Calendar 2.0//EN
METHOD:PUBLISH
X-PUBLISHED-TTL:P3D
REFRESH-INTERVAL:P3D
CALSCALE:GREGORIAN
BEGIN:VEVENT
DTSTART:20200327T213000Z
DTEND:20200328T000000Z
X-MICROSOFT-CDO-ALLDAYEVENT:FALSE
SUMMARY:Final Fridays: Teen Movie Night (PG13)
DESCRIPTION:Join us for this clever who-dunnit with Chris Evans\, Daniel Craig and an all-star cast. Contains mature themes and language. Bring pillows\, blankets or camp chairs to get comfy for movie watching! Pizza and snacks provided. Grades 7-12
X-ALT-DESC;FMTTYPE=text/html:Join us for this clever who-dunnit with Chris Evans\, Daniel Craig and an all-star cast. Contains mature themes and language. Bring pillows\, blankets or camp chairs to get comfy for movie watching! Pizza and snacks provided. Grades 7-12
LOCATION:Granville Public Library
UID:e.180.14351
SEQUENCE:3
DTSTAMP:20260422T143408Z
URL:https://business.granvilleoh.com/events/details/final-fridays-teen-movie-night-pg13-14351
END:VEVENT

END:VCALENDAR
