BEGIN:VCALENDAR
VERSION:2.0
PRODID:-//ChamberMaster//Event Calendar 2.0//EN
METHOD:PUBLISH
X-PUBLISHED-TTL:P3D
REFRESH-INTERVAL:P3D
CALSCALE:GREGORIAN
BEGIN:VEVENT
DTSTART:20210205T223000Z
DTEND:20210206T000000Z
X-MICROSOFT-CDO-ALLDAYEVENT:FALSE
SUMMARY:First Friday: Among Us Plushie
DESCRIPTION:Don't be an imposter! Register to join us to make this cute Among Us plush. Pick up your supply kit before the program and we will lead you through the steps to make one over zoom. For grades 7-12. Register at GranvilleLibrary.org/calendar/month
X-ALT-DESC;FMTTYPE=text/html:Don&#39\;t be an imposter! Register to join us to make this cute Among Us plush. Pick up your supply kit before the program and we will lead you through the steps to make one over zoom. For grades 7-12. Register at GranvilleLibrary.org/calendar/month
LOCATION:Granville Public Library
UID:e.180.14719
SEQUENCE:3
DTSTAMP:20260422T002843Z
URL:https://business.granvilleoh.com/events/details/first-friday-among-us-plushie-14719
END:VEVENT

END:VCALENDAR
