BEGIN:VCALENDAR
VERSION:2.0
PRODID:-//ChamberMaster//Event Calendar 2.0//EN
METHOD:PUBLISH
X-PUBLISHED-TTL:P3D
REFRESH-INTERVAL:P3D
CALSCALE:GREGORIAN
BEGIN:VEVENT
DTSTART:20201106T230000Z
DTEND:20201107T000000Z
X-MICROSOFT-CDO-ALLDAYEVENT:FALSE
SUMMARY:First Friday: Learn to Make Tiramisu with Palumbo's (Teens)
DESCRIPTION:Register to learn how to make tiramisu\, a delicious Italian dessert\, with Cindy Palumbo via Zoom. Once register\, you will be notified when your supply kit is ready for pickup. For grades 7-12 Register at GranvilleLibrary.org/calendar/month
X-ALT-DESC;FMTTYPE=text/html:Register to learn how to make tiramisu\, a delicious Italian dessert\, with Cindy Palumbo via Zoom. Once register\, you will be notified when your supply kit is ready for pickup. For grades 7-12 Register at GranvilleLibrary.org/calendar/month
LOCATION:Granville Public Library via Zoom
UID:e.180.14664
SEQUENCE:3
DTSTAMP:20260422T033445Z
URL:https://business.granvilleoh.com/events/details/first-friday-learn-to-make-tiramisu-with-palumbo-s-teens-11-06-2020-14664
END:VEVENT

END:VCALENDAR
