BEGIN:VCALENDAR
VERSION:2.0
PRODID:-//ChamberMaster//Event Calendar 2.0//EN
METHOD:PUBLISH
X-PUBLISHED-TTL:P3D
REFRESH-INTERVAL:P3D
CALSCALE:GREGORIAN
BEGIN:VEVENT
DTSTART:20210903T213000Z
DTEND:20210903T230000Z
X-MICROSOFT-CDO-ALLDAYEVENT:FALSE
SUMMARY:First Friday: Minecraft Scavenger Hunt
DESCRIPTION:Teens\, join us for a Minecraft-themed scavenger hunt throughout the library. Work with your team to find the ingredients needed to create Minecraft items. Snacks provided! Registration required. For grades 7-12. Register at GranvilleLibrary.org/calendar/month
X-ALT-DESC;FMTTYPE=text/html:Teens\, join us for a Minecraft-themed scavenger hunt throughout the library. Work with your team to find the ingredients needed to create Minecraft items. Snacks provided! Registration required. For grades 7-12. Register at GranvilleLibrary.org/calendar/month
LOCATION:Granville Public Library
UID:e.180.16046
SEQUENCE:3
DTSTAMP:20260421T140113Z
URL:https://business.granvilleoh.com/events/details/first-friday-minecraft-scavenger-hunt-16046
END:VEVENT

END:VCALENDAR
