BEGIN:VCALENDAR
VERSION:2.0
PRODID:-//ChamberMaster//Event Calendar 2.0//EN
METHOD:PUBLISH
X-PUBLISHED-TTL:P3D
REFRESH-INTERVAL:P3D
CALSCALE:GREGORIAN
BEGIN:VEVENT
DTSTART:20210305T223000Z
DTEND:20210305T233000Z
X-MICROSOFT-CDO-ALLDAYEVENT:FALSE
SUMMARY:First Friday: Mythological Hero's Quest
DESCRIPTION:Join us for an outdoor trivia treasure hunt. Teams will work together to test their knowledge of Greek mythology to solve the clues. Will you make it to Olympus or will you be hanging out with Hades? Meet at the Bryn Du parking lot. Dress to be outdoors- no indoor facilities are available. Masks are required. Winning team members will receive a copy of Alexandra Bracken's new book "Lore". Space is limited to ensure social distancing. Only registered teens may participate in this program. Register at GranvilleLIbrary.org/calendar/month.
X-ALT-DESC;FMTTYPE=text/html:Join us for an outdoor trivia treasure hunt. Teams will work together to test their knowledge of Greek mythology to solve the clues. Will you make it to Olympus or will you be hanging out with Hades? Meet at the Bryn Du parking lot. Dress to be outdoors- no indoor facilities are available. Masks are required. Winning team members will receive a copy of Alexandra Bracken&#39\;s new book &quot\;Lore&quot\;. Space is limited to ensure social distancing. Only registered teens may participate in this program. Register at GranvilleLIbrary.org/calendar/month.
LOCATION:Bryn Du Parking Lot
UID:e.180.14748
SEQUENCE:3
DTSTAMP:20260421T231043Z
URL:https://business.granvilleoh.com/events/details/first-friday-mythological-hero-s-quest-14748
END:VEVENT

END:VCALENDAR
