BEGIN:VCALENDAR
VERSION:2.0
PRODID:-//ChamberMaster//Event Calendar 2.0//EN
METHOD:PUBLISH
X-PUBLISHED-TTL:P3D
REFRESH-INTERVAL:P3D
CALSCALE:GREGORIAN
BEGIN:VEVENT
DTSTART:20201002T213000Z
DTEND:20201002T230000Z
X-MICROSOFT-CDO-ALLDAYEVENT:FALSE
SUMMARY:First Friday: Trick or Treat Bingo
DESCRIPTION:Will you win a Trick or a Treat? We're taking this popular annual teen event online. Only the fates can decide if you win something wacky like a pair of squirrel underpants or coveted like a gift card. For kids in grades 7-12. Prizes will be available for pick-up at the Granville Public Library after the event. Register at GranvilleLibrary.org/calendar/month
X-ALT-DESC;FMTTYPE=text/html:Will you win a Trick or a Treat? We&#39\;re taking this popular annual teen event online. Only the fates can decide if you win something wacky like a pair of squirrel underpants or coveted like a gift card. For kids in grades 7-12. Prizes will be available for pick-up at the Granville Public Library after the event. Register at GranvilleLibrary.org/calendar/month
LOCATION:Granville Public Library via Zoom
UID:e.180.14601
SEQUENCE:3
DTSTAMP:20260422T044129Z
URL:https://business.granvilleoh.com/events/details/first-friday-trick-or-treat-bingo-14601
END:VEVENT

END:VCALENDAR
