BEGIN:VCALENDAR
VERSION:2.0
PRODID:-//ChamberMaster//Event Calendar 2.0//EN
METHOD:PUBLISH
X-PUBLISHED-TTL:P3D
REFRESH-INTERVAL:P3D
CALSCALE:GREGORIAN
BEGIN:VEVENT
DTSTART:20211105T213000Z
DTEND:20211105T230000Z
X-MICROSOFT-CDO-ALLDAYEVENT:FALSE
SUMMARY:First Friday: Watercolors with Bryn Du Art Center
DESCRIPTION:No fear\, just paint! In this one-time class\, we will experiment with multiple ways to use watercolor and create playful\, vibrant artwork. For teens in 7-12th grade. Registration required at Granvillelibrary.org/calendar/month
X-ALT-DESC;FMTTYPE=text/html:No fear\, just paint! In this one-time class\, we will experiment with multiple ways to use watercolor and create playful\, vibrant artwork. For teens in 7-12th grade. Registration required at Granvillelibrary.org/calendar/month
LOCATION:Granville Public Library
UID:e.180.16105
SEQUENCE:3
DTSTAMP:20260421T112012Z
URL:https://business.granvilleoh.com/events/details/first-friday-watercolors-with-bryn-du-art-center-16105
END:VEVENT

END:VCALENDAR
