BEGIN:VCALENDAR
VERSION:2.0
PRODID:-//ChamberMaster//Event Calendar 2.0//EN
METHOD:PUBLISH
X-PUBLISHED-TTL:P3D
REFRESH-INTERVAL:P3D
CALSCALE:GREGORIAN
BEGIN:VEVENT
DTSTART:20201204T230000Z
DTEND:20201205T000000Z
X-MICROSOFT-CDO-ALLDAYEVENT:FALSE
SUMMARY:First Fridays: Cold Play
DESCRIPTION:Race to win\, uncover a spy\, practice deceit! We're playing a variety of fast-paced online games. Make sure to bring a device to play on and a way to access the Zoom meeting. For Grades 7-12. Registration required. You will receive an email with the Zoom meeting link about an hour before the start of the program.
X-ALT-DESC;FMTTYPE=text/html:Race to win\, uncover a spy\, practice deceit! We&#39\;re playing a variety of fast-paced online games. Make sure to bring a device to play on and a way to access the Zoom meeting. For Grades 7-12. Registration required. You will receive an email with the Zoom meeting link about an hour before the start of the program.
LOCATION:Granville Public Library via Zoom
UID:e.180.14691
SEQUENCE:3
DTSTAMP:20260422T020054Z
URL:https://business.granvilleoh.com/events/details/first-fridays-cold-play-14691
END:VEVENT

END:VCALENDAR
